BEGIN:VCALENDAR
PRODID:scnitm
VERSION:2.0
BEGIN:VTIMEZONE
TZID:my/AEST
BEGIN:STANDARD
DTSTART:19700101T010000
TZOFFSETFROM:+1000
TZOFFSETTO:+1000
END:STANDARD
END:VTIMEZONE
BEGIN:VTIMEZONE
TZID:my/AEDT
BEGIN:STANDARD
DTSTART:19700101T010000
TZOFFSETFROM:+1100
TZOFFSETTO:+1100
END:STANDARD
END:VTIMEZONE
BEGIN:VEVENT
UID:scnitm-506292-1777132198-1
DTSTART;TZID=my/AEST:20260504T130000
DTEND;TZID=my/AEST:20260504T140000
SUMMARY:Tai: Pattern Formation in Nematic Liquid Crystals
DESCRIPTION:See scnews item http://ssh.maths.usyd.edu.au/s/scnitm/daners-PDESeminar-Tai-PatternFor
LOCATION:AGR Carslaw 829
END:VEVENT
END:VCALENDAR

