BEGIN:VCALENDAR
PRODID:scnitm
VERSION:2.0
BEGIN:VTIMEZONE
TZID:my/AEST
BEGIN:STANDARD
DTSTART:19700101T010000
TZOFFSETFROM:+1000
TZOFFSETTO:+1000
END:STANDARD
END:VTIMEZONE
BEGIN:VTIMEZONE
TZID:my/AEDT
BEGIN:STANDARD
DTSTART:19700101T010000
TZOFFSETFROM:+1100
TZOFFSETTO:+1100
END:STANDARD
END:VTIMEZONE
BEGIN:VEVENT
UID:scnitm-631065-1777153511-1
DTSTART;TZID=my/AEDT:20140131T140000
DTEND;TZID=my/AEDT:20140131T150000
SUMMARY:Joint Colloquium: Bursztyn -- Lie theory and geometry of groupoids
DESCRIPTION:See scnews item https://ssh.maths.usyd.edu.au/s/scnitm/afish-JointColloquium-Bursztyn-
LOCATION:UNSW Red Centre 4082
END:VEVENT
END:VCALENDAR

