BEGIN:VCALENDAR
PRODID:scnitm
VERSION:2.0
BEGIN:VTIMEZONE
TZID:my/AEST
BEGIN:STANDARD
DTSTART:19700101T010000
TZOFFSETFROM:+1000
TZOFFSETTO:+1000
END:STANDARD
END:VTIMEZONE
BEGIN:VTIMEZONE
TZID:my/AEDT
BEGIN:STANDARD
DTSTART:19700101T010000
TZOFFSETFROM:+1100
TZOFFSETTO:+1100
END:STANDARD
END:VTIMEZONE
BEGIN:VEVENT
UID:scnitm-630223-1777153386-1
DTSTART;TZID=my/AEST:20190416T140000
DTEND;TZID=my/AEST:20190416T150000
SUMMARY:Lafuente -- Homogeneous Einstein manifolds via a cohomogeneity-one approach
DESCRIPTION:See scnews item https://ssh.maths.usyd.edu.au/s/scnitm/borisl-GeometryAndTopologySemina-029
LOCATION:Carslaw 535A
END:VEVENT
END:VCALENDAR

